BEGIN:VCALENDAR
VERSION:2.0
PRODID:-//Azbil North America - ECPv6.15.13//NONSGML v1.0//EN
CALSCALE:GREGORIAN
METHOD:PUBLISH
X-ORIGINAL-URL:https://us.azbil.com
X-WR-CALDESC:Events for Azbil North America
REFRESH-INTERVAL;VALUE=DURATION:PT1H
X-Robots-Tag:noindex
X-PUBLISHED-TTL:PT1H
BEGIN:VTIMEZONE
TZID:America/Denver
BEGIN:DAYLIGHT
TZOFFSETFROM:-0700
TZOFFSETTO:-0600
TZNAME:MDT
DTSTART:20240310T090000
END:DAYLIGHT
BEGIN:STANDARD
TZOFFSETFROM:-0600
TZOFFSETTO:-0700
TZNAME:MST
DTSTART:20241103T080000
END:STANDARD
BEGIN:DAYLIGHT
TZOFFSETFROM:-0700
TZOFFSETTO:-0600
TZNAME:MDT
DTSTART:20250309T090000
END:DAYLIGHT
BEGIN:STANDARD
TZOFFSETFROM:-0600
TZOFFSETTO:-0700
TZNAME:MST
DTSTART:20251102T080000
END:STANDARD
BEGIN:DAYLIGHT
TZOFFSETFROM:-0700
TZOFFSETTO:-0600
TZNAME:MDT
DTSTART:20260308T090000
END:DAYLIGHT
BEGIN:STANDARD
TZOFFSETFROM:-0600
TZOFFSETTO:-0700
TZNAME:MST
DTSTART:20261101T080000
END:STANDARD
END:VTIMEZONE
BEGIN:VEVENT
DTSTART;TZID=America/Denver:20251007T090000
DTEND;TZID=America/Denver:20251007T100000
DTSTAMP:20260422T020837
CREATED:20250108T202504Z
LAST-MODIFIED:20250110T192351Z
UID:13768-1759827600-1759831200@us.azbil.com
SUMMARY:Webinar - How To:  Configure BACnet IP for the AX Series Vortex Flow Meters
DESCRIPTION:When AX Series flow meters are shipped\, the BACnet IP settings are at factory default\, this webinar will guide you on how to configure the BACnet IP settings to meet the data collection system requirements. \nTarget Audience: Users and  Sales Partners \nClick Here to Register
URL:https://us.azbil.com/event/how-to-configure-bacnet-ip-for-the-ax-series-vortex-flow-meters/
END:VEVENT
BEGIN:VEVENT
DTSTART;TZID=America/Denver:20250918T090000
DTEND;TZID=America/Denver:20250918T100000
DTSTAMP:20260422T020837
CREATED:20250108T202427Z
LAST-MODIFIED:20250820T141213Z
UID:13766-1758186000-1758189600@us.azbil.com
SUMMARY:Webinar - How To:  Configure Modbus TCP/IP for the AX Series Vortex Flow Meters
DESCRIPTION:When AX Series flow meters are shipped\, the Modbus TCP/IP settings are at factory default\, this webinar will guide you on how to configure the Modbus TCP/IP settings to meet the data collection system requirements. \nTarget Audience: Users and  Sales Partners \nClick Here to Register
URL:https://us.azbil.com/event/how-to-configure-modbus-tcp-ip-for-the-ax-series-vortex-flow-meters/
END:VEVENT
BEGIN:VEVENT
DTSTART;VALUE=DATE:20250916
DTEND;VALUE=DATE:20250918
DTSTAMP:20260422T020837
CREATED:20250109T191846Z
LAST-MODIFIED:20250110T195617Z
UID:13799-1757980800-1758153599@us.azbil.com
SUMMARY:In person Sales Training at the Longmont\, CO Training Center
DESCRIPTION:Day 1 – GTX Pressure/DP Transmitter / Mag Meters\nDay 2 – Vortek Flow Meters\nDownload Information PDF \nTarget Audience:  Sales Partners \nLocation\nAzbil North America\, Inc. – Colorado Office/Training Center\n13782 E I-25 Frontage Rd. #B-8 Longmont\, CO 80504 \nHotel Recommendation\nSpringHill Suites Boulder Longmont\n1470 Dry Creek Dr\, Longmont\, CO 80503 \nClick Here to Register
URL:https://us.azbil.com/event/in-person-sales-training-at-the-longmont-co-training-center-5/
END:VEVENT
BEGIN:VEVENT
DTSTART;TZID=America/Denver:20250819T090000
DTEND;TZID=America/Denver:20250819T100000
DTSTAMP:20260422T020837
CREATED:20250108T202353Z
LAST-MODIFIED:20250110T192302Z
UID:13764-1755594000-1755597600@us.azbil.com
SUMMARY:Webinar - How To:  Mitigate Output Signal Fluctuation on MGGs
DESCRIPTION:Despite the versatility\, many different types of noise or even the application itself can cause an output signal fluctuation when measuring flow with an electromagnetic flowmeter. This webinar gives you an overview of the different types of functions that Azbil’s model MGG offers to mitigate the noise effect and the applicable applications of each approach. \nTarget Audience: Users and  Sales Partners \nClick Here to Register
URL:https://us.azbil.com/event/how-to-mitigate-output-signal-fluctuation-on-mggs/
END:VEVENT
BEGIN:VEVENT
DTSTART;TZID=America/Denver:20250812T090000
DTEND;TZID=America/Denver:20250812T100000
DTSTAMP:20260422T020837
CREATED:20250108T202315Z
LAST-MODIFIED:20250110T192345Z
UID:13762-1754989200-1754992800@us.azbil.com
SUMMARY:Webinar - How To:  Configure BACnet MS/TP for the AX Series Vortex Flow Meters
DESCRIPTION:When AX Series flow meters are shipped\, the BACnet MS/TP settings are at factory default\, this webinar will guide you on how to configure the BACnet MS/TP settings to meet the data collection system requirements. \nTarget Audience: Users and  Sales Partners \nClick Here to Register
URL:https://us.azbil.com/event/how-to-configure-bacnet-ms-tp-for-the-ax-series-vortex-flow-meters/
END:VEVENT
BEGIN:VEVENT
DTSTART;TZID=America/Denver:20250722T090000
DTEND;TZID=America/Denver:20250722T100000
DTSTAMP:20260422T020837
CREATED:20250108T202242Z
LAST-MODIFIED:20250110T192401Z
UID:13760-1753174800-1753178400@us.azbil.com
SUMMARY:Webinar - How the MGG Empty Pipe Detection Works
DESCRIPTION:Due to its structure and measuring principles\, electromagnetic flowmeters can be affected by noise\, especially if the detector pipe is empty. Azbil’s electromagnetic flow meter model MGG provides an Empty Pipe Detection function to prevent the noise effect on the signal output. This webinar gives you ideas of how it works\, and how you can maximize the use of it. \nTarget Audience: Users and  Sales Partners \nClick Here to Register
URL:https://us.azbil.com/event/how-the-mgg-empty-pipe-detection-works/
END:VEVENT
BEGIN:VEVENT
DTSTART;TZID=America/Denver:20250715T090000
DTEND;TZID=America/Denver:20250715T100000
DTSTAMP:20260422T020837
CREATED:20250108T202209Z
LAST-MODIFIED:20250110T192333Z
UID:13758-1752570000-1752573600@us.azbil.com
SUMMARY:Webinar - How To:  Configure Modbus RTU for the AX Series Vortex Flow Meters
DESCRIPTION:When AX Series flow meters are shipped\, the Modbus RTU settings are at factory default\, this webinar will guide you on how to configure the Modbus RTU settings to meet the data collection system requirements. \nTarget Audience: Users and  Sales Partners \nClick Here to Register
URL:https://us.azbil.com/event/how-to-configure-modbus-rtu-for-the-ax-series-vortex-flow-meters/
END:VEVENT
BEGIN:VEVENT
DTSTART;VALUE=DATE:20250617
DTEND;VALUE=DATE:20250619
DTSTAMP:20260422T020837
CREATED:20250109T191750Z
LAST-MODIFIED:20250110T195527Z
UID:13797-1750118400-1750291199@us.azbil.com
SUMMARY:In person Sales Training at the Longmont\, CO Training Center
DESCRIPTION:Day 1 – GTX Pressure/DP Transmitter / Mag Meters\nDay 2 – Vortek Flow Meters\nDownload Information PDF \nTarget Audience:  Sales Partners \nLocation\nAzbil North America\, Inc. – Colorado Office/Training Center\n13782 E I-25 Frontage Rd. #B-8 Longmont\, CO 80504 \nHotel Recommendation\nSpringHill Suites Boulder Longmont\n1470 Dry Creek Dr\, Longmont\, CO 80503 \nClick Here to Register
URL:https://us.azbil.com/event/in-person-sales-training-at-the-longmont-co-training-center-4/
END:VEVENT
BEGIN:VEVENT
DTSTART;TZID=America/Denver:20250610T090000
DTEND;TZID=America/Denver:20250610T100000
DTSTAMP:20260422T020837
CREATED:20250108T202134Z
LAST-MODIFIED:20250110T192315Z
UID:13756-1749546000-1749549600@us.azbil.com
SUMMARY:Webinar - How To:  Determine if your AX Series Vortex Flow Meter is in Low Flow Cutoff
DESCRIPTION:When AX Series flow meter is showing 0 for flow rate\, it may be in Low Flow Cutoff. This webinar will show you how to determine if your flow meter is in Low Flow Cutoff and what can be done to resolve it. \nTarget Audience: Users and  Sales Partners \nClick Here to Register
URL:https://us.azbil.com/event/how-to-determine-if-your-ax-series-vortex-flow-meter-is-in-low-flow-cutoff/
END:VEVENT
BEGIN:VEVENT
DTSTART;VALUE=DATE:20250513
DTEND;VALUE=DATE:20250515
DTSTAMP:20260422T020837
CREATED:20250109T191549Z
LAST-MODIFIED:20250110T195509Z
UID:13794-1747094400-1747267199@us.azbil.com
SUMMARY:In person Sales Training at the Longmont\, CO Training Center
DESCRIPTION:Day 1 – GTX Pressure/DP Transmitter / Mag Meters\nDay 2 – Vortek Flow Meters\nDownload Information PDF \nTarget Audience:  Sales Partners \nLocation\nAzbil North America\, Inc. – Colorado Office/Training Center\n13782 E I-25 Frontage Rd. #B-8 Longmont\, CO 80504 \nHotel Recommendation\nSpringHill Suites Boulder Longmont\n1470 Dry Creek Dr\, Longmont\, CO 80503 \nClick Here to Register
URL:https://us.azbil.com/event/in-person-sales-training-at-the-longmont-co-training-center-3/
END:VEVENT
BEGIN:VEVENT
DTSTART;TZID=America/Denver:20250506T090000
DTEND;TZID=America/Denver:20250506T100000
DTSTAMP:20260422T020837
CREATED:20250108T202103Z
LAST-MODIFIED:20250110T195412Z
UID:13754-1746522000-1746525600@us.azbil.com
SUMMARY:Webinar - How To:  Configure the 4-20mA Outputs for the AX Series Vortex Flow Meters
DESCRIPTION:When AX Series flow meters are shipped\, 4-20mA Output 1 is configured to Mass or Volume based on the suppled ADS. The 20mA value is determined from the maximum value supplied on the ADS. If the meter is supplied with multiple 4-20mA Outputs\, Output 2 and Output 3 must be setup and scaled by the user. This is a step by step on how to rescale 4-20mA Output 1 and how to setup 4-20mA Output 2 and 4-20mA Output 3 on your AX flow meter. \nTarget Audience: Users and  Sales Partners \nClick Here to Register
URL:https://us.azbil.com/event/how-to-configure-the-4-20ma-outputs-for-the-ax-series-vortex-flow-meters/
END:VEVENT
BEGIN:VEVENT
DTSTART;VALUE=DATE:20250422
DTEND;VALUE=DATE:20250424
DTSTAMP:20260422T020837
CREATED:20250109T191447Z
LAST-MODIFIED:20250110T195334Z
UID:13792-1745280000-1745452799@us.azbil.com
SUMMARY:In person Sales Training at the Longmont\, CO Training Center
DESCRIPTION:Day 1 – GTX Pressure/DP Transmitter / Mag Meters\nDay 2 – Vortek Flow Meters\nDownload Information PDF \nTarget Audience:  Sales Partners \nLocation\nAzbil North America\, Inc. – Colorado Office/Training Center\n13782 E I-25 Frontage Rd. #B-8 Longmont\, CO 80504 \nHotel Recommendation\nSpringHill Suites Boulder Longmont\n1470 Dry Creek Dr\, Longmont\, CO 80503 \nClick Here to Register
URL:https://us.azbil.com/event/in-person-sales-training-at-the-longmont-co-training-center-2/
END:VEVENT
BEGIN:VEVENT
DTSTART;VALUE=DATE:20250408
DTEND;VALUE=DATE:20250409
DTSTAMP:20260422T020837
CREATED:20250108T202021Z
LAST-MODIFIED:20250110T195346Z
UID:13752-1744070400-1744156799@us.azbil.com
SUMMARY:Webinar - How To:  Activate the Totalizer for the AX Series Vortex Flow Meters
DESCRIPTION:When AX Series flow meters are shipped\, the Totalizer is inactive. The user must activate and configure the Totalizer. This webinar will show you how to activate the Totalizer on your AX Series flow meter. \nTarget Audience: Users and  Sales Partners \nClick Here to Register
URL:https://us.azbil.com/event/how-to-activate-the-totalizer-for-the-ax-series-vortex-flow-meters/
END:VEVENT
BEGIN:VEVENT
DTSTART;TZID=America/Denver:20250304T090000
DTEND;TZID=America/Denver:20250304T100000
DTSTAMP:20260422T020837
CREATED:20250108T201848Z
LAST-MODIFIED:20250110T192340Z
UID:13749-1741078800-1741082400@us.azbil.com
SUMMARY:Webinar - How To:  Configure Display for the AX Series Vortex Flow Meters
DESCRIPTION:When AX Series vortex flow meters are shipped\, the display is configured to display Mass Flow or Volume Flow based on the application data provided. This webinar will show you how to configure the AX Series vortex flow meters display to show the information the user wants to see on the display. \nTarget Audience: Users and  Sales Partners \nClick Here to Register
URL:https://us.azbil.com/event/how-to-configure-display-for-the-ax-series-vortex-flow-meters/
END:VEVENT
BEGIN:VEVENT
DTSTART;TZID=America/Denver:20250227T090000
DTEND;TZID=America/Denver:20250227T100000
DTSTAMP:20260422T020837
CREATED:20250108T180236Z
LAST-MODIFIED:20250110T192222Z
UID:13742-1740646800-1740650400@us.azbil.com
SUMMARY:Webinar - Steam Flow & Quality Metering
DESCRIPTION:Steam plays a crucial role in various industries\, serving as an efficient means of transporting energy throughout a facility. This energy is used for a range of purposes\, including heat transfer\, power generation\, mechanical work\, sterilization\, and humidification. There has been a growing emphasis on energy production and conservation in recent years\, driven by environmental regulations and financial incentives. This emphasis has led to increasedattention toward steam generation and usage. This webinar will show you different technologies you can use to measure steam. \nTarget Audience: Users and  Sales Partners \nClick Here to Register
URL:https://us.azbil.com/event/steam-flow-quality-metering/
END:VEVENT
BEGIN:VEVENT
DTSTART;TZID=America/Denver:20250225T090000
DTEND;TZID=America/Denver:20250225T100000
DTSTAMP:20260422T020837
CREATED:20250108T180228Z
LAST-MODIFIED:20250110T192245Z
UID:13741-1740474000-1740477600@us.azbil.com
SUMMARY:Webinar - Introduction to Communication Types
DESCRIPTION:To get the most out of your instrumentation\, using Modbus or BACnet protocols will help you with additional data to help characterize your system(s) where the instrument is located. We will discuss the fundamentals of both including standard terminology. \nTarget Audience: Users and  Sales Partners \nClick Here to Register
URL:https://us.azbil.com/event/introduction-to-communication-types/
END:VEVENT
BEGIN:VEVENT
DTSTART;TZID=America/Denver:20250213T090000
DTEND;TZID=America/Denver:20250213T100000
DTSTAMP:20260422T020837
CREATED:20250108T180219Z
LAST-MODIFIED:20250110T192308Z
UID:13740-1739437200-1739440800@us.azbil.com
SUMMARY:Webinar - How To:  Match GTX's Display Orientation with Competitor Models
DESCRIPTION:Pressure/Differential pressure transmitters from different vendors may look very similar at first glance\, though they are sometimes not when it comes to display and piping orientations. This can cause a lot of modification work against electrical wirings or impulse lines when replacing an existing transmitter. This webinar offers some tips to mitigate these risks by adjusting the transmitter display/piping orientation. \nTarget Audience: Users and  Sales Partners \nClick Here to Register
URL:https://us.azbil.com/event/how-to-match-gtxs-display-orientation-with-competitor-models/
END:VEVENT
BEGIN:VEVENT
DTSTART;TZID=America/Denver:20250211T090000
DTEND;TZID=America/Denver:20250211T100000
DTSTAMP:20260422T020837
CREATED:20250108T180204Z
LAST-MODIFIED:20250110T192250Z
UID:13739-1739264400-1739268000@us.azbil.com
SUMMARY:Webinar - Introduction to Azbil's Smart HART Modem
DESCRIPTION:HART is the most commonly used communication protocol in the industrial instrumentation world to configure a device\, collect multivariable trends\, and detect anomalies or malfunctions. This webinar offers an overview of Azbil’s Smart HART Modem to guide you on how to start a HART device configuration. \nTarget Audience: Users and  Sales Partners \nClick Here to Register
URL:https://us.azbil.com/event/introduction-to-azbils-smart-hart-modem/
END:VEVENT
BEGIN:VEVENT
DTSTART;TZID=America/Denver:20250123T090000
DTEND;TZID=America/Denver:20250123T100000
DTSTAMP:20260422T020837
CREATED:20250108T180156Z
LAST-MODIFIED:20250110T192228Z
UID:13738-1737622800-1737626400@us.azbil.com
SUMMARY:Webinar - Introduction to Pro-M Electromagnetic Flow Meters
DESCRIPTION:Pro-M™ Electromagnetic Flowmeter offers accurate and reliable flow metering of liquids. Using Faraday’s law of electromagnetic induction\, these meters offer accurate and reliable volumetric flow metering of a variety of conductive liquids. Unaffected by the temperature\, pressure\, density\, or viscosity of the liquid\, these meters provide a level of measurement stability unmatched among flow metering technologies. The full-bore design does not create a pressure loss and has no moving parts for a maintenance-free design. This webinar will review the product family offering and features. \nTarget Audience: Users and  Sales Partners \nClick Here to Register
URL:https://us.azbil.com/event/introduction-to-pro-m-electromagnetic-flow-meters/
END:VEVENT
BEGIN:VEVENT
DTSTART;TZID=America/Denver:20250121T090000
DTEND;TZID=America/Denver:20250121T100000
DTSTAMP:20260422T020837
CREATED:20250108T180145Z
LAST-MODIFIED:20250110T192258Z
UID:13737-1737450000-1737453600@us.azbil.com
SUMMARY:Webinar - Introduction to AX Series Vortex Flow Meters
DESCRIPTION:Vortex flow meters measure fluid velocity using a principle of operation referred to as the von Kármán effect. It states that when flow passes by an obstruction in the flow path\, vortices are generated in a repeating pattern. This webinar will review the product family offering and features. \nTarget Audience: Users and  Sales Partners \nClick Here to Register
URL:https://us.azbil.com/event/introduction-to-ax-series-vortex-flow-meters/
END:VEVENT
BEGIN:VEVENT
DTSTART;TZID=America/Denver:20250116T090000
DTEND;TZID=America/Denver:20250116T100000
DTSTAMP:20260422T020837
CREATED:20250108T173008Z
LAST-MODIFIED:20250110T192240Z
UID:13729-1737018000-1737021600@us.azbil.com
SUMMARY:Webinar - Introduction to GTX Pressure Transmitters
DESCRIPTION:Proven quality and stability\, the Advanced pressure and differential pressure transmitters dependably function for extended periods and were developed by combining the latest technologies with Azbil’s excellent performance record. This webinar will review the product family offering and features. \nTarget Audience: Users and  Sales Partners \nClick Here to Register
URL:https://us.azbil.com/event/introduction-to-gtx-pressure-transmitters/
END:VEVENT
BEGIN:VEVENT
DTSTART;TZID=America/Denver:20250114T090000
DTEND;TZID=America/Denver:20250114T100000
DTSTAMP:20260422T020837
CREATED:20250109T000212Z
LAST-MODIFIED:20250110T195205Z
UID:13727-1736845200-1736848800@us.azbil.com
SUMMARY:Webinar - Introduction to MagneW Electromagnetic Flow Meters
DESCRIPTION:Azbil’s high-efficiency electromagnetic flowmeters can be applied to a wide range of applications. Based on technologies that were fostered by our long-time amassed experience and performance records\, these industry-proven flowmeters come in a large array of sizes and liners. This webinar will review the product family offering and features. \nTarget Audience: Users and  Sales Partners \nClick Here to Register
URL:https://us.azbil.com/event/introduction-to-magnew-electromagnetic-flow-meters/
END:VEVENT
END:VCALENDAR